BEGIN:VCALENDAR
VERSION:2.0
PRODID:-//eventon.com NONSGML v1.0//EN
CALSCALE:GREGORIAN
METHOD:PUBLISH
BEGIN:VEVENT
UID:69ed611d66d64
DTSTAMP:20260426T004933Z
DTSTART:20231119T083000Z
DTEND:20231119T190000Z
LOCATION:
SUMMARY:Cäciliafeier
DESCRIPTION:Cäciliafeier\nhttps://www.musikkapelle-latzfons.it/index.php/e
 vents/caeciliafeier/
URL:https://www.musikkapelle-latzfons.it/index.php/events/caeciliafeier/
END:VEVENT
END:VCALENDAR