BEGIN:VCALENDAR
VERSION:2.0
PRODID:-//eventon.com NONSGML v1.0//EN
CALSCALE:GREGORIAN
METHOD:PUBLISH
BEGIN:VEVENT
UID:69e4c1640eb64
DTSTAMP:20260419T114956Z
DTSTART:20230318T200000Z
DTEND:20230318T230000Z
LOCATION:
SUMMARY:Josefikonzert
DESCRIPTION:Josefikonzert\nhttps://www.musikkapelle-latzfons.it/index.php/e
 vents/josefikonzert/
URL:https://www.musikkapelle-latzfons.it/index.php/events/josefikonzert/
END:VEVENT
END:VCALENDAR